BEGIN:VCALENDAR
VERSION:2.0
PRODID:-//BatucaBronX - ECPv6.15.20//NONSGML v1.0//EN
CALSCALE:GREGORIAN
METHOD:PUBLISH
X-WR-CALNAME:BatucaBronX
X-ORIGINAL-URL:https://www.batucabronx.com
X-WR-CALDESC:Évènements pour BatucaBronX
REFRESH-INTERVAL;VALUE=DURATION:PT1H
X-Robots-Tag:noindex
X-PUBLISHED-TTL:PT1H
BEGIN:VTIMEZONE
TZID:Europe/Paris
BEGIN:DAYLIGHT
TZOFFSETFROM:+0100
TZOFFSETTO:+0200
TZNAME:CEST
DTSTART:20250330T010000
END:DAYLIGHT
BEGIN:STANDARD
TZOFFSETFROM:+0200
TZOFFSETTO:+0100
TZNAME:CET
DTSTART:20251026T010000
END:STANDARD
BEGIN:DAYLIGHT
TZOFFSETFROM:+0100
TZOFFSETTO:+0200
TZNAME:CEST
DTSTART:20260329T010000
END:DAYLIGHT
BEGIN:STANDARD
TZOFFSETFROM:+0200
TZOFFSETTO:+0100
TZNAME:CET
DTSTART:20261025T010000
END:STANDARD
BEGIN:DAYLIGHT
TZOFFSETFROM:+0100
TZOFFSETTO:+0200
TZNAME:CEST
DTSTART:20270328T010000
END:DAYLIGHT
BEGIN:STANDARD
TZOFFSETFROM:+0200
TZOFFSETTO:+0100
TZNAME:CET
DTSTART:20271031T010000
END:STANDARD
END:VTIMEZONE
BEGIN:VEVENT
DTSTART;TZID=Europe/Paris:20260717T160000
DTEND;TZID=Europe/Paris:20260718T230000
DTSTAMP:20260421T225029
CREATED:20260127T205318Z
LAST-MODIFIED:20260406T104522Z
UID:6047-1784304000-1784415600@www.batucabronx.com
SUMMARY:Festival Les Terres Rouges
DESCRIPTION:Les BatucaBronx débarquent aux Terres Rouges 2026 le vendredi et le samedi\, prêts à mettre le feu et faire monter la fièvre du festival.Énergie brute\, vibes brûlantes et communion totale avec le public : ici\, ça se vit\, ça se danse\, ça se lâche.Les Terres Rouges\, c’est pas un rendez-vous… c’est une déflagration. 💥🔥
URL:https://www.batucabronx.com/evenement/festival-les-terres-rouges-2026/
LOCATION:Ville de Castelnau-de-Montmiral\, Castelnau-de-Montmiral\, 81140\, France
CATEGORIES:Sorties
ATTACH;FMTTYPE=image/jpeg:https://www.batucabronx.com/wp-content/uploads/2026/01/terres-rouges.jpg
END:VEVENT
END:VCALENDAR