BEGIN:VCALENDAR
VERSION:2.0
PRODID:-//BatucaBronX - ECPv6.15.20//NONSGML v1.0//EN
CALSCALE:GREGORIAN
METHOD:PUBLISH
X-WR-CALNAME:BatucaBronX
X-ORIGINAL-URL:https://www.batucabronx.com
X-WR-CALDESC:Évènements pour BatucaBronX
REFRESH-INTERVAL;VALUE=DURATION:PT1H
X-Robots-Tag:noindex
X-PUBLISHED-TTL:PT1H
BEGIN:VTIMEZONE
TZID:Europe/Paris
BEGIN:DAYLIGHT
TZOFFSETFROM:+0100
TZOFFSETTO:+0200
TZNAME:CEST
DTSTART:20250330T010000
END:DAYLIGHT
BEGIN:STANDARD
TZOFFSETFROM:+0200
TZOFFSETTO:+0100
TZNAME:CET
DTSTART:20251026T010000
END:STANDARD
BEGIN:DAYLIGHT
TZOFFSETFROM:+0100
TZOFFSETTO:+0200
TZNAME:CEST
DTSTART:20260329T010000
END:DAYLIGHT
BEGIN:STANDARD
TZOFFSETFROM:+0200
TZOFFSETTO:+0100
TZNAME:CET
DTSTART:20261025T010000
END:STANDARD
BEGIN:DAYLIGHT
TZOFFSETFROM:+0100
TZOFFSETTO:+0200
TZNAME:CEST
DTSTART:20270328T010000
END:DAYLIGHT
BEGIN:STANDARD
TZOFFSETFROM:+0200
TZOFFSETTO:+0100
TZNAME:CET
DTSTART:20271031T010000
END:STANDARD
END:VTIMEZONE
BEGIN:VEVENT
DTSTART;TZID=Europe/Paris:20260530T160000
DTEND;TZID=Europe/Paris:20260530T233000
DTSTAMP:20260421T194139
CREATED:20260327T102056Z
LAST-MODIFIED:20260327T102120Z
UID:6158-1780156800-1780183800@www.batucabronx.com
SUMMARY:Mulu Fest à Cuq Toulza
DESCRIPTION:un festival 100% autogéré : Concerts\, DJ\, bar & camping gratuit du 29 au 31 Mai à Cuq-Toulza\nBatucaBronx y sera le 30 mai pour enflammer les lieux ! \nhttps://www.facebook.com/profile.php?id=61587191160380 \nhttps://www.facebook.com/events/772853309222408/?acontext=%7B%22event_action_history%22%3A[%7B%22surface%22%3A%22home%22%7D%2C%7B%22mechanism%22%3A%22search_results%22%2C%22surface%22%3A%22search%22%7D]%2C%22ref_notif_type%22%3Anull%7D
URL:https://www.batucabronx.com/evenement/mulu-fest-a-cuq-toulza/
LOCATION:Ville de Cuq-Toulza\, Cuq-Toulza\, 81470\, France
CATEGORIES:Sorties
ATTACH;FMTTYPE=image/jpeg:https://www.batucabronx.com/wp-content/uploads/2026/03/mulu.jpg
END:VEVENT
END:VCALENDAR